BEGIN:VCALENDAR
VERSION:2.0
PRODID:-//hacksw/handcal//NONSGML v1.0//EN
CALSCALE:GREGORIAN
BEGIN:VEVENT
LOCATION:369 West Vine Street\, Lexington\, KY 40507
DESCRIPTION:SACME 2026 Annual Meeting
DTSTART:20260322T000000
DTEND:20260325T000000
SUMMARY:Hope to see you at the SACME 2025 Annual Meeting March 16–19 in Washington\, D.C.
URL;VALUE=URI:https://www.abms.org/event/sacme-2026-annual-meeting/
DTSTAMP:20260421T093130
UID:69e743f2cef93
END:VEVENT
END:VCALENDAR