BEGIN:VCALENDAR
VERSION:2.0
PRODID:-//hacksw/handcal//NONSGML v1.0//EN
CALSCALE:GREGORIAN
BEGIN:VEVENT
LOCATION:
DESCRIPTION:IHI Forum 2026
DTSTART:20261206T000000
DTEND:20261209T000000
SUMMARY:Visit us at the Institute for Healthcare Improvement (IHI) Forum in December!
URL;VALUE=URI:https://www.abms.org/event/ihi-forum/
DTSTAMP:20260421T043356
UID:69e6fe34d8a1c
END:VEVENT
END:VCALENDAR