BEGIN:VCALENDAR
VERSION:2.0
PRODID:-//hacksw/handcal//NONSGML v1.0//EN
CALSCALE:GREGORIAN
BEGIN:VEVENT
LOCATION:601 Loyola Ave\, New Orleans\, LA 70113
DESCRIPTION:ATP Innovations in Testing 2026
DTSTART:20260301T000000
DTEND:20260304T000000
SUMMARY:Looking forward to connecting with you at the ATP Innovations in Testing Conference March 1–4 in New Orleans\, Louisiana.
URL;VALUE=URI:https://www.abms.org/event/atp-innovations-in-testing-2026/
DTSTAMP:20260421T102230
UID:69e74fe606b57
END:VEVENT
END:VCALENDAR